BEGIN:VCALENDAR
VERSION:2.0
PRODID:icalendar-ruby
CALSCALE:GREGORIAN
METHOD:PUBLISH
BEGIN:VEVENT
DTSTAMP:20260423T085126Z
UID:20-1340155@stthomasmore.tithelysetup5.com
DTSTART:20261021T023000Z
DTEND:20261021T040000Z
CLASS:PUBLIC
CREATED:20260422T200900
DESCRIPTION:
LAST-MODIFIED:20260422T200900
LOCATION:Chi Rho (Men's Household) Located across from St.Thomas More
SUMMARY:Men's Night 
URL;VALUE=URI:https://catholiccougs.org/events/mens-night/2026-10-20
ATTACH;FILENAME=DSC_4932.JPG;FMTTYPE=image/jpeg:https://dq5pwpg1q8ru0.cloud
 front.net/2025/08/25/21/22/26/99aa6573-1e4a-4c6b-b449-e98874088c86/DSC_493
 2.JPG
END:VEVENT
END:VCALENDAR
